Workbook
Name Process: "process, label, store"

Sheet Cover
D1: Forest Certification Public Report
A3: Forest Manager/Owner (Certificate Holder): | D3: ='1 Basic Info'!C7 -> Ottawa Valley Forest
A4: Forest Name: | D4: Ottawa Valley Forest
A5: Country: | D5: Canada
A6: Standard: | D6: FSC-STD-CAN-01-2018 EN_V1
A7: Certificate code: | D7: SA-FM/COC-002701
A8: FSC® logo licence code: | D8: FSC-C102825
A9: Certificate issue date: | D9: 44516
A10: Certificate expiry date: | D10: 46341
A12: Table of contents:
D13: 1. Basic Info
D14: 2. Findings
D15: 3. Main Assessment Certification Process
D16: 4. Admin
D17: 5. Main Assessment Forest details
D18: 6. Surveillance 1 (S1)
D19: 7. Surveillance 2 (S2)
D20: 8. Surveillance 3 (S3)
D21: 9. Surveillance 4 (S4)
C22: Annexes: | D22: NFSS Checklist
D23: A1.1: Pesticides
D24: A1.2 IFL
D25: A2: Consultation
D26: A3: Species list
D27: A4: CITES list (for reference)
D28: A5: Additional Info
D29: A6: Group Standard
D30: A7: Group member details/ FMU details (Group & Multiple FMU)
D31: A8: Sampling calculation
D32: A9: NTFP checklist (use appropriate adapted standard for specific NTFP and region)
D33: A10: Glossary
D34: A11: Certification Decision form
... D42: A18: Opening & Closing meeting
B44: Assessment date | C44: Audit Team Leader | D44: Checked by | E44: Date Checked | F44: Approved by | G44: Report finalisation / update date
A45: RA | B45: September 20-24, 2021 | C45: Larry Nall | D45: Valentins Kuksinovs, James Evans | E45: 44504 | F45: James Evans | G45: 44505
A46: S1
A47: S2
A48: S3
A49: S4
A51: Please note that the main text of this report is publicly available on request
...

Sheet 1 Basic Info
A1: 1 | B1: BASIC INFORMATION | D1: Note: cells highlighted in green include information requested on the FSC database. Please check carefully at each audit and highlight changes in yellow
A2: 1.1 | B2: Certification Body | C2: Soil Association Certification Ltd
A3: 1.1.1 | B3: Certificate registration code | C3: =Cover!D7 -> SA-FM/COC-002701
A4: 1.1.2 | B4: Type of certification | C4: FSC
A5: 1.1.3 | B5: Please detail any current or previous FSC/Other applications or certifications within the last 5 years For previous certificates please supply a copy of the last audit report
A6: 1.2 | B6: Details of forest manager/owner/contractor/wood procurement organisation (Certificate holder)
A7: 1.2.1 | B7: Company name and legal entity | C7: =Cover!D4 -> Ottawa Valley Forest
A8: 1.2.2 | B8: Company name and legal entity in local language
A9: 1.2.3 | B9: Company registration number
A10: 1.2.4 | B10: Contact person | C10: Nick Gooderham, R.P.F.
A11: 1.2.5 | B11: Business address | C11: 195 Brazeau Rd., RR3, Pembroke, Ontario, K8A 6W4 | G11: Forest owner(s), or
A12: 1.2.6 | B12: Country | C12: Canada | G12: Wood procurement organisation(s), or
A13: 1.2.7 | B13: Tel | C13: (613)735-1888 | G13: Forest contractor(s):
A14: 1.2.8 | B14: Fax | C14: (613)735-1849 | G14: Felling operations contractor
A15: 1.2.9 | B15: e-mail | C15: planning@ovfi.ca | G15: Silvicultural contractor, or
A16: 1.2.10 | B16: web page address | C16: www.ovfi.ca | G16: Forest management planning contractor
A17: 1.2.11 | B17: Application information completed by duly authorised representative | C17: Nick Gooderham, R.P.F.
A18: 1.2.12 | B18: Any particular logistics for travel arrangements to the site or between the sites? | C18: Nearest large airport, Ottawa
A20: 1.3 | B20: Scope of certificate
A21: 1.3.1 | B21: Type of certificate | C21: Single | G21: Single
A22: 1.3.1.a | B22: Type of operation | C22: Forest owner(s), or | G22: Group
A23: 1.3.2a | B23: Name(s) of the forest/organisations covered by the certificate | C23: Ottawa Valley Forest
A24: 1.3.2b | B24: Number of group members | C24: 0
A25: 1.3.3 | B25: Number of Forest Management Units (FMUs) | C25: 1
A26: 1.3.4 | B26: Country | C26: Canada
A27: 1.3.5 | B27: Region | C27: Ontario
A28: 1.3.6 | B28: Latitude | C28: N 45 deg, 45 min (office)
A29: 1.3.7 | B29: Longitude | C29: W 77 deg, 3 min | G29: North
A30: 1.3.8 | B30: Hemisphere | C30: North | G30: South
A31: 1.3.9 | B31: Forest Zone or Biome | C31: Temperate | G31: Boreal
G32: Temperate
A33: 1.3.10 | B33: FSC® AAF category/ies | C33: Non-SLIMF area (ha) | D33: SLIMF area (ha) | G33: Subtropical
B34: Natural Forest - Community Forestry | G34: Tropical
B35: Natural Forest- Conservation purposes | C35: 19574
B36: Natural Forest - Tropical
B37: Natural Forest - Boreal
B38: Natural Forest Temperate | C38: 227850
B39: Plantation
A41: 1.4 | B41: Forest management
A42: 1.4.1 | B42: Type of enterprise | C42: Industrial
...

Sheet 2 Findings
B1: DO NOT DELETE - contains drop down data | M1: Obs
M2: Minor
M3: Major
A4: 2 | C4: CORRECTIVE ACTION REGISTER | E4: =[1]Cover!D3 -> Ottawa Valley Forest Incorporated | H4: =[1]Cover!D7 -> SA-FM/COC-002701
A5: Justification for grading (DROP DOWN LIST) | B5: No. | C5: Grade | D5: Non-compliance (or potential non-compliance for an Observation) (Groups: specify Group or Member level) | E5: Std ref | F5: Corrective Action Request | G5: Deadline | H5: Date & Evidence (Record date & name if closing between surveillance audits.) | I5: Status | J5: Date Closed
A6: CARs from RA 2015
A7: OBS - complies with the STD requirements but potential NC in future | B7: 200X.1 | C7: Obs | D7: 8.3.3: Immediately on certification the group must include their FSC COC code and FSC status of material (e.g. FSC 100%), on all delivery notes and sales invoices issued for certified product. This will be checked at S1 audit. | E7: FSC 8.3.3 | F7: The company should include their FSC COC code and FSC status of material (e.g. FSC 100%), as appropriate on all delivery notes & sales invoices issued for certified product. | G7: From first sale of FSC material, to be checked within 12 months of the finalisation date of this report, and no later than next annual audit | H7: 2018 S1: No FSC sales yet therefore Obs to remain open for review at S2. | I7: Open
A8: Choose one option from the drop downs | B8: 2015.1 | C8: Obs | D8: Fallen dead wood habitats may not be adequately retained in all harvest blocks. Currently in compliance, as the clearcut harvest in Block 732 is not completed yet. | E8: 6.3.8 | F8: The manager should ensure that site preparation does not result in a lack of retention of adequate levels of fallen dead wood habitats. | G8: Ongoing | H8: September 24, 2016. Site visit confirmed that down woody material was scattered from slash piles across the treatment area, and that no other site prep seen on site tour was close to non-compliance for lack of adequate down woody material. | I8: Closed | J8: 42637
A9: CARs from 2016 S1
A10: Choose one option from the drop downs | B10: 2016.1 | C10: Minor | D10: Procedures do not include the following norms for the design and building of new roads: - Embankments and cuttings are stabilised to resist erosion, - Drains and culverts are designed to minimise erosion. In Block 653, a creek crossingon the primary road is constructed contrary to CORLAPS described in 6.5.2, and is unstable and eroding. | E10: 6.5.2 | F10: The company shall ensure that procedures include the following norms for the design and building of new roads- Embankments and cuttings are stabilised to resist erosion, - Drains and culverts are designed to minimise erosion. This applies to mitigation of poor construction of primary road in Block 653. | G10: One year after report is sent to certificate holder. | H10: August 26, 2017. The general manager presented photographic evidence (10 photos including construction and post-construction) that the road had been reconstructed to the CORLAP standards stated in FMP 4.5.7. | I10: Closed | J10: 1 Nov 2017
A11: CARs from 2017 S2
A12: Choose one option from the drop downs | B12: 2017.1 | C12: Obs | D12: All assumptions regarding regeneration, growth, abundance, quality and size distribution of the main commercial species are not in line with the best available data for the locality from relevant inventories. | E12: 5.6.4 | F12: The company should have the new inventory made available before the end of the calendar year, replacing the thirty year-old inventory currently used, so assumptions regarding regeneration, growth, abundance, quality, and size distribution of the main commercial species are in line with the best available data for the locality from a relevant inventory | G12: Ongoing | H12: October 15, 2018. The company has rejected the new inventory due to significant inaccuracy. The old inventory will be fully updated--depletions, renewal, FTG, and an intensive update of older stands composed of short-lived intolerant species such as poplar. | I12: Closed
A13: CARs from 2018 S3
A14: Choose one option from the drop downs | B14: 2018.1 | C14: Minor | D14: Training records for employees are not up to date. | E14: ´7.3.3 | F14: The company shall keep up-to-date training records of employees. | G14: One year after report is sent to certificate holder. | H14: August 26, 2019. The manager copied the auditor the current training record, and it is up-to-date. | I14: Closed | J14: 43703
A15: Choose one option from the drop downs | B15: 2018.2 | C15: Obs | D15: The silvicultural system on which management is based is not clearly stated. | E15: 10.5.1 | F15: The company should seek to amend the current FMP, and propose wording in the planning for the next FMP, to clarify the descriptive phrases defining the Silvicultural Ground Rules for the shelterwood and clearcut with seed tree alternatives within the silvicultural system. | G15: Ongoing | H15: November 24, 2019. The company and MNRF are formulating new language to clarify the criteria for white and red pine 2 and 3 cut shelterwoods and white pine clearcut with seed tree. The draft proposal is almost complete. October 26, 2020. A Memo dated August 4, 2020 was sent by the MNRF Regional Director outlining a path towards clarifying acceptable field determinations for prescriptions for white pine and red pine management. Discussions with the forest manager and feedback from MNRF staff indicate mutual agreement with this process. Additional clarification will be provided in a new forest management plan, currently being devloped. Closure of this observation should be evaluated at next audit. September 20, 2021. The 2021-31 FMP updated language in the Silviculture Ground Rules to make the descriptive phrases clearer. The FMP modeled a 2-cut shelterwood system in its Analysis Package, replacing the 3-cut system, which monitoring has shown is difficult to achieve optimal results. The plan is expected to be approved by the end of 2021. | I15: Closed | J15: Sept 20, 2021.
A16: CARs from 2019 S4
A17: Choose one option from the drop downs | B17: 2019.1 | C17: Minor | D17: In Block 410, harvesting machinery entered a stream well-marked for exclusion as an AOC. | E17: 6.5.9 | F17: The company shall ensure that procedures are implemented to prevent machinery from entering streams except at designated and designed stream crossings. | G17: Within 12 months of certificate issue, and no later than next annual audit | H17: October 14, 2020. The company forwarded to the auditor the record of a meeting held with the logging contractor prior to start-up this season, where he was instructed to familiarize himself with the AOC features, block map, and prescriptions. Pre-work meetings with all operators are prescribed by the manager to point out protection features. FOIP indicated no non-complainces for skidding across a stream in the last year. | I17: Closed | J17: 44118
A18: Choose one option from the drop downs | B18: 2019.2 | C18: Minor | D18: In Block 410, there was excessive demage to a residual stand of trees during harvesting. 20+ unmarked trees were removed by the operator over approximately 1 ha without a satisfactory explanation. | E18: 5.3.1 | F18: The company shall ensure that there is not excessive damage to residual trees during the harvest operation. | G18: Within 12 months of certificate issue, and no later than next annual audit | H18: October 14, 2020. The auditor was copied a report indicating that the logger responsible has not worked on the forest yet this season, but will have a meeting to ensure excess unmarked trees are not cut prior to his commencement of operations. Inspection results for the block, harvested this year with a different contractor, showed no excess tree cutting. No FOIP non-compliances were reported for this issue in the last year. | I18: Closed | J18: 44118
A19: Choose one option from the drop downs | B19: 2019.3 | C19: Obs | D19: The company has not yet written an ESRA for the two chemical herbicides it uses for site prep. | E19: 1.1.6.2 | F19: The company should write an ESRA for each pesticide it uses, a requirement for use after August 1, 2020. | G19: 44063 | H19: October 13, 2020. The company sent the auditor its ESRA for glyphosate, the active ingredient in VisionMax, the only pesticide the company has used in the last year. | I19: Closed | J19: 44117
A20: Choose one option from the drop downs | B20: 2019.4 | C20: Minor | D20: In Block 752, there was an application of chemicals within 30m of a pond. | E20: 6.6.13 | F20: The company shall not apply chemicals within 30 meters of a lake or pond. | G20: Within 12 months of certificate issue, and no later than next annual audit | H20: October 13, 2020. The company designed an enhanced procedure for ensuring that the layout of blocks for chemical treatment does not violate the 30m buffer protecting water. No non-compliances were reported in the FOIP system in the last year. | I20: Closed | J20: 44117
A21: Choose one option from the drop downs | B21: 2019.5 | C21: Minor | D21: In Block 269, site preparation infringed on a 30 meter buffer around the habitat of Blandings turtle, a Species At Risk. | E21: 6.2.3b | F21: The company shall protect the habitat and populations of species at risk in the forest. | G21: Within 12 months of certificate issue, and no later than next annual audit | H21: October 13, 2020. The company designed an enhanced procedure for ensuring that the layout of blocks for mechanical site prep treatment does not violate the 30m buffer protecting Blandings turtle habitat. No non-compliances were reported in the FOIP system in the last year. | I21: Closed | J21: 44117
A22: Choose one option from the drop downs | B22: 2019.6 | C22: Minor | D22: The renewal monitoring is not current. | E22: 8.1.1 | F22: The company shall maintain currency in its regular monitoring that documents the degree in which goals, objectives and targets were met. | G22: Within 12 months of certificate issue, and no later than next annual audit | H22: November 4, 2020. Based on the provisions of INT-STD-20-007_38, referring to FSC-STD-20-001 V4-0, 4.3.16 a), minor nonconformity shall be corrected within the maximum period of one year (under exceptional and justified circumstances the timeline may be extended to two years. From INT-STD-20-001_41, an epidemic is considered as being typical of a situation that is beyond the control of the CH. The silviculture technician has documented a narrative describing the effect of the pandemic on performance of assessments by a new employee. The office was closed, so the new techs could not connect to an office computer for training. No more than one person was permitted to drive in each vehicle, so training could not be accomplished during driving time. Without proper training, the new techs were impaired in their ability to perform complex assessments. September 23, 2021. There has been a complete turnover in the silviculture staff in the last year. The new staff has significantly caught up on the currency of monitoring this field season. | I22: Closed | J22: 44462
A23: CARs from 2020 S5
A24: Minor - Temporary lapse | B24: 2020.1 | C24: Minor | D24: The justification for use of a restricted HHP was insufficiently addressed in the Renewal Prescription Forms for the 2020 spray program, specifically Block 158 which was queried by the auditor. | E24: SA Ref 1.1.4.1 | F24: The company shall provide a justification for use of glyphosate, a restricted HHP. | G24: One year after report is sent to certificate holder. | H24: October 15, 2020. The silviculture tech copied the auditor the 2020-21 Air Blast Spray Program prescription, which outlines justification of use adequately in comparison to other method of site prep. | I24: Closed | J24: 44119
A25: Minor - impact limited temporal and spatial scale | B25: 2020.2 | C25: Minor | D25: The operational procedures for pesticide application are required to be in adherence to federal and provincial laws, via the contract for chemical site preparation services verified by the auditor. But the inspection for the chemical site prep treatment did not report an analysis of compliance in the "activities" section on Pesticide Application, which read "no issues", and the seven attributes to be checked which evaluated the procedural compliance were recorded as "not checked". | E25: 10.7.5 | F25: The company shall ensure that the use of pesticides* complies with all legal* requirements of Annex A related to the transport, storage, handling, application and emergency procedures for cleanup following accidental spillages of dangerous products. | G25: One year after report is sent to certificate holder. | H25: September 15, 2021. A review of FOIP inspection (697046) results for the 2021 Chemical Site Prep Program, initiated on July 28, and completed on August 7, showed that all the attributes in the inspection format for pesticide application were reported as "in compliance" with a brief description of results. The compliance inspection was done by Nigel Nieman, an OVFI compliance inspector. | I25: Closed | J25: Sept 15, 2021.
A26: OBS - complies with the STD requirements but potential NC in future | B26: 2020.3 | C26: Obs | D26: Before applying any chemical pesticide, the Company has not incorporated the results of their ESRA(s) to site operational plans, to identify site-specific risks and adapt the generic mitigation and monitoring measures previously identified in the IPM ESRA. | E26: FSC-POL-30-001 V3-0 Para 4.12 part 6 | F26: After Dec 31, 2020, Before applying any chemical pesticide, the Company should incorporate the results of their ESRA(s) to site operational plans, to identify site-specific risks and adapt the generic mitigation and monitoring measures previously identified in the IPM ESRA. | G26: Closed | H26: September 22, 2021. The company formulated ESRA's for two herbicides, one of which was used in the last year. The results of the ESRA were incorportated in the site-specific treatment plans. | I26: Closed | J26: 44461
A27: OBS - complies with the STD requirements but potential NC in future | B27: 2020.4 | C27: Obs | D27: The Company has not engaged with stakeholders in conformance with the requirements in the applicable National Forest Stewardship Standard or Interim National Standard when conducting ESRA(s). | E27: FSC-POL-30-001 V3-0 Para 4.12 part 10 | F27: Prior to December 31, 2020, the Company should engage with stakeholders in conformance with the requirements in the applicable National Forest Stewardship Standard or Interim National Standard when conducting ESRA(s). | G27: Closed | H27: September 20, 2021. The silviculture forester engaged with the Great Lakes-St. Lawrence Silviculture Group, as well as with Alison Luke and Krista Watters of MNFR for feedback on ESRA formulation. | I27: Closed | J27: 44459
A28: Minor - impact limited temporal and spatial scale | B28: 2020.5 | C28: Minor | D28: The Company has not Informed third-party nursery suppliers of the list of FSC prohibited chemical pesticides, encouraging them to avoid these pesticides in their processes and in the production of seedlings and other materials entering the management unit, nor have they requested the list of FSC prohibited pesticides used by their nursery suppliers. | E28: FSC-POL-30-001 V3-0 Para 4.12 part 12 | F28: The Company shall Inform third-party nursery suppliers of the list of FSC prohibited chemical pesticides, encouraging them to avoid these pesticides in their processes and in the production of seedlings and other materials entering the management unit, and they shall request the list of FSC prohibited pesticides used by their nursery suppliers.. | G28: One year after report is sent to certificate holder. | H28: November 2, 2020. The silviculture technician copied the auditor the email she sent to the nursery, attaching the FSC Pesticide Policy list of restricted and prohibited chemicals. The CEO of the nursery responded that they do not use any chemical on that list in preparation of the seedlings the company orders. | I28: Closed | J28: 44137
A29: Minor - impact limited temporal and spatial scale | B29: 2020.6 | C29: Minor | D29: The publicly available disputes resolution process does not include provisions for ceasing operation to address disputes of substantial magnitude. | E29: 1.6.2 | F29: The publicly available disputes resolution process shall include provisions for ceasing operation to address disputes of substantial magnitude. | G29: One year after report is sent to certificate holder. | H29: September 20, 2021. The general manager provided an updated version of the OVFI Dispute Resolution Procedure. Clause 3 stipulates that operations will cease when addressing disputes of substantial magnitude. | I29: Closed | J29: 44459
A30: OBS - complies with the STD requirements but potential NC in future | B30: 2020.7 | C30: Obs | D30: Prior to management activities, and through a mutually agreed upon and culturally appropriate engagement process, it has been difficult for the company and the Algonquins of Ontario to agree on protections for certain First Nations values. The management activity has not been initiated by the company. | E30: 3.2.1 | F30: The company should work with both Algonquins of Ontario and MNRF to improve the timeliness, clarity, and completeness of communications regarding operational planning and approval. | G30: Closed | H30: September 27, 2021. Correspondence/Interviews with AOO representatives and government officials indicated that significant improvement has been made on communications. All parties, including the Company, believe that an improvement in trust was resulting from the additional efforts of all parties. | I30: Closed | J30: 44466
A31: Minor - impact limited temporal and spatial scale | B31: 2020.8 | C31: Minor | D31: The HCVF Assessment report has not been updated every five years. | E31: 9.1.6 | F31: The company shall update the HCVF Assessment report every five years. | G31: One year after report is sent to certificate holder. | H31: September 20, 2021. The general manager provided an updated version of the HCVF assessment v 3.0, dated September 7, 2021. The appendices cannot be added until they are finally approved during the FMP approval process, but the content update has been completed. Approval of the FMP is expected prior to the end of the calendar year. | I31: Closed | J31: 44459
A32: CARs from RA
A33: Minor - impact limited temporal and spatial scale | B33: 2021.1 | C33: Minor | D33: There is no reference in company documents confirming that maternity and paternity leave is available for no less than a six-week period after childbirth, and there is no penalty for taking it. Although this is a law, the employee handbook does not specifically refer to maternity and paternity leave. | E33: 2.2.4 | F33: The company shall update its documentation to confirm that maternity and paternity leave is available for no less than a six-week period after childbirth, and there is no penalty for taking it. | G33: Within 12 months of certificate issue, and no later than next annual audit. | I33: Open
B34: 2021.2 | C34: Obs | D34: Compliance with relevant occupational health and safety regulations as specified in Annex A is demonstrated through verification with the operators, but the company does not have written instructions in the compliance inspection format for safety checking on operators for its compliance techs. | E34: 2.3.1 | F34: The company should have written instructions in the compliance inspection format regarding safety checks on operators for its compliance techs. | G34: N/A | I34: Open
B35: 2021.3 | C35: Obs | D35: The HCV assessment* report is not updated every five years. The appendices cannot be added to the updated assessment until they have been approved in the FMP planning process. | E35: 9.1.6 | F35: The company should add the appendices to the updated HCV assessment upon final approval within the FMP planning process. | G35: N/A | I35: Open
A36: Minor - unusual/non-systematic | B36: 2021.4 | C36: Minor | D36: Means to address protection of species at risk* and their habitats* through the use of protected areas*, access management and other habitat* management measures were not carried out. The operator in Block 341 was cited by OVFI compliance techs for incursions into a turtle habitat AOC outside of the permissible operating season. The entire block had been planned to be worked completely outside of the permitted operating season, so the AOC line had not been painted. When the operator decided to operate within the permissible portion of the block, he incurred into the prohibited habitat because there was no line installed. | E36: 6.4.2.2 | F36: The company shall carry out measures to address protection of species at risk* and their habitats* through the use of protected areas*, access management and other habitat* management measures. | G36: Within 12 months of certificate issue, and no later than next annual audit. | I36: Open
A37: Minor - unusual/non-systematic | B37: 2021.5 | C37: Minor | D37: The Organization* has not protected natural water courses, water bodies, and riparian zones by establishing machine-free zones that are not entered except where required for construction of crossings or other approved infrastructure* or restoration* of riparian functions or water bodies. The OVFI compliance tech cited a non-compliance for operating equipment in an AOC protecting an HPS stream/wetland. He found that the AOC had not been laid out, and the operator, not seeing the red paint line, entered the AOC and cut a number of trees within 15m of the water feature. | E37: 6.7.1.2 | F37: The company shall protect natural water courses, water bodies, and riparian zones by establishing machine-free zones that are not entered except where required for construction of crossings or other approved infrastructure* or restoration* of riparian functions or water bodies. | G37: Within 12 months of certificate issue, and no later than next annual audit. | I37: Open
AA208: Choose one option from the drop downs
AA209: OBS - complies with the STD requirements but potential NC in future
AA210: Minor - Temporary lapse
...

Sheet 3 RA Cert process
A1: 3 | B1: THE CERTIFICATION ASSESSMENT PROCESS
A2: 3.1 | B2: Assessment dates
B3: Main Assessment dates
B4: September 20-24, 2021
B5: Itinerary
B6: September 20: Opening meeting
B7: September 20-24: Review of documentation, staff interviews
B8: September 16-24: Stakeholder meetings
B9: September 21, 23: Site visits
B10: September 24: Closing meeting
B12: Estimate of person days to implement assessment
B13: 14
B15: Justification for increasing and decreasing factors
B16: Factors increasing auditing time: Indigenous Peoples present, HCVs present.
A19: 3.2 | B19: Assessment team
B20: The assessment team consisted of:
B21: 1) Larry Nall (Audit Team Leader). B.S. Forest Management, consulting forester, owner of a medium-sized forest management company for thirty-four years, then a lead auditor FM/COC for thirteen years.
B22: 2) Peter Nitschke (Local Expert): B.S. , M.S. Forest Management. Peter worked as a forester in industry and provincial government, and was the general manager of an FSC-certified forest management company for twenty years until his retirement in 2020.
B23: Team members’ c.v.’s are held on file at the SA Cert office.
A25: 3.2.1 | B25: Report author
B26: Larry Nall
A28: 3.3 | B28: Report Peer review
B29: The Inspection report and draft SA Cert decision was reviewed by a Peer Review Panel consisting of:
B30: 1) name & summary of relevant expertise
B31: 2) name & summary of relevant expertise
B32: The Inspection report and draft SA Cert decision was also sent to the client for comment.
A34: 3.4 | B34: Certification decision
B35: See annex 11
A37: 3.5 | B37: Rationale for approach to assessment
B38: The assessment involved review of relevant management planning documentation and records, site visits, discussion with forest managers and workers and completion of the forest management checklists.
A39: 3.6 | B39: Justification for selection of items and places inspected
B40: Blocks visited Sept 21: Block 337_335, active stand improvement releasing red pine, red oak, and white pine after an old pine seed cut failure, by removing the middle story of competing unacceptable trees. Block 137, marked 2-cut shelterwood, confirming the validity of the prescription. Block 137, marked clearcut with seed tree, confirming the validity of the prescription. Block 137, unmarked red pine commercial thinning, with operator selection to a target BA, confirming validity of prescription. Block 156, active mixed wood clearcut with retention. Block 138, white pine 2-cut shelterwood, planted in 2016, aerially sprayed in 2018, waiting for the final removal cut when regen reaches the required height. Block 139, clearcut with seed trees, planted in 2017, aerially sprayed in 2018, failure of spray to be effective, confirmed strategy to attempt to save the pine from suppression due to heavy, tall poplar competition. Block 139, white pine shelterwood 2-cut, planted in 2017, aerially sprayed in 2018 with mixed effectiveness, confirmed monitoring strategy to determine whether another treatment will be required to reduce competition.
B41: Blocks visited Sept 23: Block 582, Mixed wood clearcut with seed trees, recently harvested. Block 582, white pine shelterwood seed cut. Block 883, white pine shelterwood seed cut 2013, planted in 2016, manual tending in 2021. Block 885, active red oak shelterwood seed cut. Block 884, white pine shelterwood seed cut 2013, planted 2015, manual tending 2017, evaluated to need another manual tending in 2022.
A44: 3.7 | B44: Standards used (inc version and date approved)
B46: The forest management was evaluated against the National Forest Stewardship Standard (NFSS) for Canada: ST-FM-006-02, April 2019. Available at https://fsc.org/en/document-center
A48: 3.7.1 | B48: Adaptations/Modifications to standard
B49: None
A51: 3.8 | B51: Stakeholder consultation process
A52: 3.8.1 | B52: Summary of stakeholder process
B53: 53 consultees were contacted
...

Sheet 4 Admin 
A1: 4 | B1: ADMINISTRATIVE CONTEXT
A2: 4.1 | B2: Context – summary of the legislative, administrative and land use contexts in which the forest management enterprise operates, including the roles of responsible government agencies, involved in aspects of forest management (eg. harvesting, monitoring , protection, health and safety, infrastructure and other uses).
B3: The Ministry of Natural Resources and Forestry (MNRF) is the provincial government body responsible for regulating forest management on its licensee operating on crown land, and for ensuring compliance with the Crown Forest Sustainability Act. MNRF’s Statement of Environmental Values (SEV) under the Environmental Bill of Rights (EBR) is a document which describes how the purposes of the EBR are to be considered whenever decisions that might significantly affect the environment are made in the Ministry. In the development of OVFI's forest management plan, MNRF’s Statement of Environmental Values (SEV) has been considered. The plan is intended to reflect the direction set out in the SEV, and to further the objective of managing Ontario’s natural resources on a sustainable basis.
B4: The Ottawa Valley Forest Management Unit is comprised of the former Pembroke Crown Management Unit, which was established in 1996 with the amalgamation of the former Madawaska and Bonnechere Crown Management Units. In 1999, much of the responsibility for forest management on the unit was transferred from the MNRF to Ottawa Valley Forest Inc. (OVFI) under a Sustainable Forest Licence (SFL). As the SFL-holder, Ottawa Valley Forest Inc. requested a name change for the management unit that would be consistent with the name of the licensee. Effective April 1, 1999 the Pembroke Crown Management Unit was renamed the Ottawa Valley Forest.
B5: The Ottawa Valley Forest Management Unit is comprised of the former Pembroke Crown Management Unit, which was established in 1996 with the amalgamation of the former Madawaska and Bonnechere Crown Management Units. In 1999, much of the responsibility for forest management on the unit was transferred from the MNRF to Ottawa Valley Forest Inc. (OVFI) under a Sustainable Forest Licence (SFL). As the SFL-holder, Ottawa Valley Forest Inc. requested a name change for the management unit that would be consistent with the name of the licensee. Effective April 1, 1999 the Pembroke Crown Management Unit was renamed the Ottawa Valley Forest.
B6: Under the authority of the Sustainable Forest Licence issued by the Minister, Ottawa Valley Forest Inc. of Pembroke has assumed financial and functional responsibility for forest management planning and the implementation of forest management activities on the Ottawa Valley Forest.
B7: The specific responsibilities of the company are detailed in the licence, but can be summarised as follows:
B8: • Forest management planning including:
B9: • the production of the forest management plan every five years;
B10: • the production of the Annual Work Schedules (AWS);
B11: • the preparation of Forest Operations Prescriptions;
B12: • monitoring and reporting achievements in Annual Reports and the Report
B13: of Past Forest Operations.
B14: • Maintenance of the Forest Resources Inventory including all inventories, tests and studies required of the SFL by the Forest Information Manual.
... B33: In 1996, the numerous wood processing facilities and logging contractors that held, or had held, licenses to harvest wood on the former Pembroke Crown Management unit were approached by the Ministry of Natural Resources to create an organisation capable of taking on the responsibilities of a Sustainable Forest Licence. Ottawa Valley Forest Inc. was formed by a partnership of interested companies to be the holder of the Sustainable Forest Licence. The operation of the company, including the distribution of the harvest allocation, is governed by a Unanimous Shareholders Agreement

Sheet 5 RA Forest
A1: 5 | B1: THE FOREST
A2: 5.1 | B2: GENERAL BACKGROUND ABOUT THE FME
B3: Ottawa Valley Forest Inc. is a cooperative of ten forest industries and logging companies and the holder of the Sustainable Forest License (SFL) for the Ottawa Valley Forest located in Renfrew County, Ontario. OVFI is responsible for forest management planning and the implementation of forest management activities on the Ottawa Valley Forest. While the whole of Renfrew County is considered to be the management unit, OVFI is only responsible for the management of Crown lands within the county that are managed for forestry purposes.
A5: 5.1.1 | B5: Type of FME and year established
B6: Sustainable Forest License holder, established in 1999.
A7: 5.2 | B7: TENURE
A8: 5.2.1 | B8: Third party tenure and use rights
B9: In 1996, the numerous wood processing facilities and logging contractors that held, or had held, licenses to harvest wood on the former Pembroke Crown Management unit were approached by the Ministry of Natural Resources and Forestry to create an organisation capable of taking on the responsibilities of a Sustainable Forest Licence. Ottawa Valley Forest Inc. was formed by a partnership of interested companies to be the holder of the Sustainable Forest Licence. The operation of the company, including the distribution of the harvest allocation, is governed by a Unanimous Shareholders Agreement.
A10: 5.2.2 | B10: Forest Owner/manager’s other activity or areas managed
B11: None
A12: 5.2.3 | B12: Land use history and profile of adjacent lands
B13: Logging began in the Ottawa Valley in the early 1800’s with the square timber trade and reached its peak in the 1860’s and 70’s. Most of Renfrew County was "cut over" twice by the early 1900s. After almost 200 years of logging in the Ottawa Valley Forest, the forest industry remains the single greatest influence on the forest composition and landscape pattern.
A14: 5.3 | B14: SUMMARY OF FOREST MANAGEMENT
A15: 5.3.1 | B15: Structure of management organisation
B16: General Manager and Planning Forester-Nick Gooderham, RPF
B17: Operations Forester-Bruce Summersby, RPF. FOP's, plans harvests and roads.
B18: Tom Boudreau-senior compliance technician-oversite of compliance program, audits tree marking, does FOP's.
B19: Silviculture Forester-Alex Emond
B20: Forester Trainee-Julie Antler
B21: Silviculture Technician-Peter Vanderveest
B22: Bookkeeper-Leslie Densmore
A23: 5.3.2 | B23: Description of Management System
B24: Each shareholder with harvesting rights undert the shareholders agreement has an overlapping license. Shareholders have their contracting operators for harvesting. Responsibility of shareholders include harvesting and forest renewal, road construction and maintenance (partly funded by MNRF), tending operations etc.
A25: 5.3.3 | B25: Total management area and main divisions
B26: Total forest area is 247,424 ha. The area is unofficially divided into shareholder operating areas.
A27: 5.3.4 | B27: Forest composition and forest production
B28: See 1.4.2-5
A30: 5.3.5 | B30: Management objectives
B31: The principle that healthy and diverse forest ecosystems are the key to a sustainable forest-based economy
B32: • The conservation of our natural environment the enhancement and maintenance of all forest values
B33: • Conducting the business in a professional, open and fair manner
B34: • Providing shareholders with the most cost effective and efficient forest management services and support
B35: • Promoting awareness and training for the safety and well being of forest worker
B36: • Continuous learning and the application of the best available science and knowledge
A38: 5.3.6 | B38: Silviculture and/or forest management systems
A39: 5.3.6a | B39: General description
B40: The clearcut silvicultural system is best suited to promote light-demanding species such as poplar (trembling aspen and largetooth aspen), white birch and jack pine.
B41: The common theme in the ‘modified clearcut’ is that the majority of the dominant overstory is harvested but certain species and/or classes are retained to form part of the next stand.
B42: The clearcut is considered to be ‘modified’ when the stocking of residual stems meets the FRI minimum stocking standard of 30% (normally 10m2/ha basal area or greater).
B43: One variation of the modified clearcut involves the careful harvest of most of the dominant trees in the stand (typically poplar) and the retention of long-lived desirable species that are usually subordinate to the main canopy (typically white pine, red pine, white spruce, red oak and other tolerant hardwoods). Another variation of the modified clearcut may be to retain a residual overstory to act as a ‘nurse crop’ for desirable regeneration occurring in the understory. The strip clearcut system is a variation of the clearcut system that harvests the mature overstory in a series of strips separated by strips of retained mature trees. The retained strips provide the regenerating strip with both seed and some shelter from drying winds.
...

Sheet 5a MA Group
A1: 5a | B1: THE GROUP
A2: 5a.1 | B2: Group manager/entity description
B3: (specify type of operation, year established, number of sites)
A6: 5a.2 | B6: Ownership of the land, forest and forest management enterprise
B7: See list of group members in Annex 7
A9: 5a.3 | B9: Responsibility of Group Manager
C11: If Ecosystem Services are within the scope clearly describe the separation of responsibilities between manager & member
A12: 5a.4 | B12: Responsibility of Group Members
C14: If Ecosystem Services are within the scope clearly describe the separation of responsibilities between manager & member
A15: 5a.5 | B15: System for assessment and demonstration of compliance with forest management standard
A18: 5a.6 | B18: Compliance with FSC group requirements
B19: See Group standard and checklist Annex 6
A21: 5 | B21: THE FOREST - edit text in blue as appropriate and change to black text and change to black text before submitting report for review
A22: 5.1 | B22: GENERAL BACKGROUND ABOUT THE OPERATION
B23: Total area (hectares)
B24: Site 1:
B25: Site 2:
B26: etc
A27: 5.1.1 | B27: Type of operation and year established
B28: Site 1:
B29: Site 2:
B30: etc
A31: 5.1.2 | B31: Ownership of the land, forest and forest management enterprise
B32: Site 1: | C32: Government/Community/Private/Indigenous/Public
B33: Site 2: | C33: Government/Community/Private/Indigenous/Public
B34: etc | C34: Government/Community/Private/Indigenous/Public
A35: 5.2 | B35: TENURE
A36: 5.2.1 | B36: Forest Owner/manager’s tenure
B37: Site 1: | C37: State/Concession/Community/Private/Indigenous/Public/ Church
B38: Site 2: | C38: State/Concession/Community/Private/Indigenous/Public/ Church
B39: etc | C39: State/Concession/Community/Private/Indigenous/Public/ Church
A40: 5.2.2 | B40: Third party tenure and use rights
B41: Site 1:
B42: Site 2:
B43: etc
A45: 5.2.3 | B45: Forest Owner/manager’s other activity or areas managed
B46: Site 1:
B47: Site 2:
B48: etc
A50: 5.2.4 | B50: Land use history and profile of adjacent lands
...

Sheet 6 S1
A1: 6 | B1: FIRST SURVEILLANCE - edit text in blue as appropriate and change to black text before submitting report for review
A2: 6.1 | B2: Surveillance Assessment dates
B5: Itinerary
B6: (Date) Opening meeting and attendees
B7: (Date) Audit: Review of documentation [& Group systems], staff interviews
B8: (Date) Stakeholder meetings
B9: (Date) Site visit [Group member (Name);] FMU (Name)
B10: (Date) Site visit [Group member (Name);] FMU (Name)
B11: (Date) Document review
B12: (Date) Auditors meeting
B13: (Date) Closing meeting and attendees
A15: 6.2 | B15: Estimate of person days to complete surveillance assessment
B16: Summary of person days including time spent on preparatory work, actual audit days, consultation and report writing (excluding travel to the region)
B18: Justification for increasing and decreasing factors
B19: Factors increasing auditing time: Infrastructure, Difficult stakeholder context, Significant # of stakeholder concerns, New complaints, New country/region, # of open CARs, Indigenous Peoples present, HCVs present.
B20: Factors decreasing auditing time: Plantations, Limited forestry activities, Group and multiple MU certificates.
A22: 6.3 | B22: Surveillance Assessment team
B23: The assessment team consisted of:
B24: 1) name (Audit Team Leader) summary of relevant expertise
B25: 2) name (Auditor) summary of relevant expertise
B26: 3) name (Technical Expert) summary of relevant expertise
B27: 4) name (Translator) summary of relevant expertise
B28: Team members’ c.v.’s are held on file.
A30: 6.3.1 | B30: Report author
A33: 6.4 | B33: Assessment process
B34: E.g. The assessment involved review of relevant group and management planning documentation and records, site visits, discussion with forest managers and workers and completion of the group and forest management checklists. The number of sites selected was based on the sampling calculation given in Annex 8. Sites were selected to include areas of recent or on-going operations, areas of public access, areas of conservation value and to include group members not previously visited by SA Cert.
A36: 6.4.1 | B36: Criteria assessed at audit
B37: All FSC principles and criteria were assessed
A38: OR | B38: Criteria were selected for assessment based on •areas of potential weakness /related to previous CARs or issues, • related to stakeholder comments received, • where there have been changes in management/scope, • relating to key objectives and on going activities and • to ensure that all principles are assessed at least once during the 4 surveillance visits • where there is a high risk of non-compliance to a new standard. AND any significant changes to a standard.
B39: The following criteria were assessed:
A41: 6.5 | B41: Stakeholder consultation
B42: x consultees were contacted
B43: x responses were received
B44: Consultation was carried out on day/month/200x
B45: x visits/interviews were held by phone/in person during audit…
B46: See A2 for summary of issues raised by stakeholders and SA Cert response
A48: 6.6 | B48: Review of corrective actions
B49: Action taken in relation to previously issued conditions is reviewed given in Section 2 of this report.
A51: 6.7 | B51: Justification for selection of items and places inspected
B52: Main sites visited in each FMU
...

Sheet 7 S2
A1: 7 | B1: SECOND SURVEILLANCE - edit text in blue as appropriate and change to black text before submitting report for review
A2: 7.1 | B2: Surveillance Assessment dates
B5: Itinerary
B6: (Date) Opening meeting
B7: (Date) Audit: Review of documentation [& Group systems], staff interviews
B8: (Date) Stakeholder meetings
B9: (Date) Site visit [Group member (Name);] FMU (Name)
B10: (Date) Site visit [Group member (Name);] FMU (Name)
B11: (Date) Document review
B12: (Date) Auditors meeting
B13: (Date) Closing meeting
A15: 7.2 | B15: Estimate of person days to complete surveillance assessment
B16: Summary of person days including time spent on preparatory work, actual audit days, consultation and report writing (excluding travel to the region)
B18: Justification for increasing and decreasing factors
B19: Factors increasing auditing time: Infrastructure, Difficult stakeholder context, Significant # of stakeholder concerns, New complaints, New country/region, # of open CARs, Indigenous Peoples present, HCVs present.
B20: Factors decreasing auditing time: Plantations, Limited forestry activities, Group and multiple MU certificates.
A22: 7.3 | B22: Surveillance Assessment team
B23: The assessment team consisted of:
B24: 1) name (Audit Team Leader) summary of relevant expertise
B25: 2) name (Auditor) summary of relevant expertise
B26: 3) name (Technical Expert) summary of relevant expertise
B27: 4) name (Translator) summary of relevant expertise
B28: Team members’ c.v.’s are held on file.
A30: 7.3.1 | B30: Report author
A33: 7.4 | B33: Assessment process
B34: E.g. The assessment involved review of relevant group and management planning documentation and records, site visits, discussion with forest managers and workers and completion of the group and forest management checklists. The number of sites selected was based on the sampling calculation given in Annex 8. Sites were selected to include areas of recent or on-going operations, areas of public access, areas of conservation value and to include group members not previously visited by SA Cert.
A36: 7.4.1 | B36: Criteria assessed at audit
B37: All FSC principles and criteria were assessed
A38: OR | B38: Criteria were selected for assessment based on •areas of potential weakness /related to previous CARs or issues, • related to stakeholder comments received, • where there have been changes in management/scope, • relating to key objectives and on going activities and • to ensure that all principles are assessed at least once during the 4 surveillance visits • where there is a high risk of non-compliance to a new standard. AND any significant changes to a standard.
B39: The following criteria were assessed:
A41: 7.5 | B41: Stakeholder consultation
B42: x consultees were contacted
B43: x responses were received
B44: Consultation was carried out on day/month/200x
B45: x visits/interviews were held by phone/in person during audit…
B46: See A2 for summary of issues raised by stakeholders and SA Cert response
A48: 7.6 | B48: Review of corrective actions
B49: Action taken in relation to previously issued conditions is reviewed given in Section 2 of this report.
A51: 7.7 | B51: Justification for selection of items and places inspected
B52: Main sites visited in each FMU
...

Sheet 8 S3
A1: 8 | B1: THIRD SURVEILLANCE - edit text in blue as appropriate and change to black text before submitting report for review
A2: 8.1 | B2: Surveillance Assessment dates
B5: Itinerary
B6: (Date) Opening meeting
B7: (Date) Audit: Review of documentation [& Group systems], staff interviews
B8: (Date) Stakeholder meetings
B9: (Date) Site visit [Group member (Name);] FMU (Name)
B10: (Date) Site visit [Group member (Name);] FMU (Name)
B11: (Date) Document review
B12: (Date) Auditors meeting
B13: (Date) Closing meeting
A15: 8.2 | B15: Estimate of person days to complete surveillance assessment
B16: Summary of person days including time spent on preparatory work, actual audit days, consultation and report writing (excluding travel to the region)
B18: Justification for increasing and decreasing factors
B19: Factors increasing auditing time: Infrastructure, Difficult stakeholder context, Significant # of stakeholder concerns, New complaints, New country/region, # of open CARs, Indigenous Peoples present, HCVs present.
B20: Factors decreasing auditing time: Plantations, Limited forestry activities, Group and multiple MU certificates.
A22: 8.3 | B22: Surveillance Assessment team
B23: The assessment team consisted of:
B24: 1) name (Audit Team Leader) summary of relevant expertise
B25: 2) name (Auditor) summary of relevant expertise
B26: 3) name (Technical Expert) summary of relevant expertise
B27: 4) name (Translator) summary of relevant expertise
B28: Team members’ c.v.’s are held on file.
A30: 8.3.1 | B30: Report author
A33: 8.4 | B33: Assessment process
B34: E.g. The assessment involved review of relevant group and management planning documentation and records, site visits, discussion with forest managers and workers and completion of the group and forest management checklists. The number of sites selected was based on the sampling calculation given in Annex 8. Sites were selected to include areas of recent or on-going operations, areas of public access, areas of conservation value and to include group members not previously visited by SA Cert.
A36: 8.4.1 | B36: Criteria assessed at audit
B37: All FSC principles and criteria were assessed
A38: OR | B38: Criteria were selected for assessment based on •areas of potential weakness /related to previous CARs or issues, • related to stakeholder comments received, • where there have been changes in management/scope, • relating to key objectives and on going activities and • to ensure that all principles are assessed at least once during the 4 surveillance visits • where there is a high risk of non-compliance to a new standard. AND any significant changes to a standard.
B39: The following criteria were assessed:
A41: 8.5 | B41: Stakeholder consultation
B42: x consultees were contacted
B43: x responses were received
B44: Consultation was carried out on day/month/200x
B45: x visits/interviews were held by phone/in person during audit…
B46: See A2 for summary of issues raised by stakeholders and SA Cert response
A48: 8.6 | B48: Review of corrective actions
B49: Action taken in relation to previously issued conditions is reviewed given in Section 2 of this report.
A51: 8.7 | B51: Justification for selection of items and places inspected
B52: Main sites visited in each FMU
...

Sheet 9 S4
A1: 9 | B1: FOURTH SURVEILLANCE - edit text in blue as appropriate and change to black text before submitting report for review
A2: 9.1 | B2: Surveillance Assessment dates
B5: Itinerary
B6: (Date) Opening meeting
B7: (Date) Audit: Review of documentation [& Group systems], staff interviews
B8: (Date) Stakeholder meetings
B9: (Date) Site visit [Group member (Name);] FMU (Name)
B10: (Date) Site visit [Group member (Name);] FMU (Name)
B11: (Date) Document review
B12: (Date) Auditors meeting
B13: (Date) Closing meeting
A15: 9.2 | B15: Estimate of person days to complete surveillance assessment
B16: Summary of person days including time spent on preparatory work, actual audit days, consultation and report writing (excluding travel to the region)
B18: Justification for increasing and decreasing factors
B19: Factors increasing auditing time: Infrastructure, Difficult stakeholder context, Significant # of stakeholder concerns, New complaints, New country/region, # of open CARs, Indigenous Peoples present, HCVs present.
B20: Factors decreasing auditing time: Plantations, Limited forestry activities, Group and multiple MU certificates.
A22: 9.3 | B22: Surveillance Assessment team
B23: The assessment team consisted of:
B24: 1) name (Audit Team Leader) summary of relevant expertise
B25: 2) name (Auditor) summary of relevant expertise
B26: 3) name (Technical Expert) summary of relevant expertise
B27: 4) name (Translator) summary of relevant expertise
B28: Team members’ c.v.’s are held on file.
A30: 9.3.1 | B30: Report author
A33: 9.4 | B33: Assessment process
B34: E.g. The assessment involved review of relevant group and management planning documentation and records, site visits, discussion with forest managers and workers and completion of the group and forest management checklists. The number of sites selected was based on the sampling calculation given in Annex 8. Sites were selected to include areas of recent or on-going operations, areas of public access, areas of conservation value and to include group members not previously visited by SA Cert.
A36: 9.4.1 | B36: Criteria assessed at audit
B37: All FSC principles and criteria were assessed
A38: OR | B38: Criteria were selected for assessment based on •areas of potential weakness /related to previous CARs or issues, • related to stakeholder comments received, • where there have been changes in management/scope, • relating to key objectives and on going activities and • to ensure that all principles are assessed at least once during the 4 surveillance visits • where there is a high risk of non-compliance to a new standard. AND any significant changes to a standard.
B39: The following criteria were assessed:
A41: 9.5 | B41: Stakeholder consultation
B42: x consultees were contacted
B43: x responses were received
B44: Consultation was carried out on day/month/200x
B45: x visits/interviews were held by phone/in person during audit…
B46: See A2 for summary of issues raised by stakeholders and SA Cert response
B48: Review of corrective actions
A49: 9.6 | B49: Action taken in relation to previously issued conditions is reviewed given in Section 2 of this report.
B51: Justification for selection of items and places inspected
A52: 9.7 | B52: Main sites visited in each FMU
...

Sheet NFSS checklist
C1: Soil Association Generic Checklist for National Forest Stewardship Standards (NFSS)/ Interim National Standard (INS) based on FSC-STD-01-001 V5-2 EN ST-FM-006-02 April 2019 FSC® Licence Code A000525 | J1: ** Where translation NOT required - please hide/delete columns H-L ** ** Where translation IS required please translate tables below and replace this cell with translated name of standard as on the English version OR translate line by line below the English language in column C and delete/hide rows H-L**
C3: NFSS/INS title: | J3: NFSS/INS title:
C4: FSC National Forest Stewardship Standard of Canada
C5: Document reference code: | J5: Document reference code:
C6: FSC-STD-CAN-01-2018 EN
C7: Geographical scope: | J7: Geographical scope:
C8: Canada
C9: Forest scope: | J9: Forest scope:
C10: All forest types, except small-scale forests*, low intensity forests* and community forests*.
C11: Effective date: | J11: Effective date:
C12: 01.01.2020
C13: Date checklist created: | J13: Date checklist created:
C14: 43657
C15: Summary of changes since the previous audit: | J15: Summary of changes since the previous audit:
C18: Summary for each FSC® Principle | D18: Y/N | E18: CAR # | J18: Summary for each FSC Principle | K18: Y/N | L18: CAR #
C19: FSC PRINCIPLE #1: COMPLIANCE WITH LAWS The Organization* shall* comply with all applicable laws, regulations and nationally-ratified international treaties, conventions and agreements. | D19: Y | J19: FSC PRINCIPLE #1: COMPLIANCE WITH LAWS The Organization* shall* comply with all applicable laws, regulations and nationally-ratified international treaties, conventions and agreements.
C20: FSC PRINCIPLE #2: WORKERS' RIGHTS AND EMPLOYMENT CONDITIONS The Organization* shall* maintain and/or enhance the social and economic wellbeing of workers. | D20: Y | E20: 2021.1 | J20: FSC PRINCIPLE #2: WORKERS' RIGHTS AND EMPLOYMENT CONDITIONS The Organization* shall* maintain and/or enhance the social and economic wellbeing of workers.
C21: FSC PRINCIPLE #3: INDIGENOUS PEOPLES' RIGHTS The Organization* shall identify and uphold* indigenous peoples’*legal* and customary rights* of ownership, use and management of land, territories and resources affected by management activities. | D21: Y | J21: FSC PRINCIPLE #3: INDIGENOUS PEOPLES' RIGHTS The Organization* shall identify and uphold* indigenous peoples’*legal* and customary rights* of ownership, use and management of land, territories and resources affected by management activities.
C22: FSC PRINCIPLE #4: COMMUNITY RELATIONS The Organization* shall* contribute to maintaining or enhancing the social and economic wellbeing of local communities*. | D22: Y | J22: FSC PRINCIPLE #4: COMMUNITY RELATIONS The Organization* shall* contribute to maintaining or enhancing the social and economic wellbeing of local communities*.
C23: FSC PRINCIPLE #5: BENEFITS FROM THE FOREST The Organization* shall efficiently manage the range of multiple products and services of the Management Unit* to maintain or enhance long term economic viability* and the range of social and environmental benefits. | D23: Y | J23: FSC PRINCIPLE #5: BENEFITS FROM THE FOREST The Organization* shall efficiently manage the range of multiple products and services of the Management Unit* to maintain or enhance long term economic viability* and the range of social and environmental benefits.
C24: FSC PRINCIPLE #6: ENVIRONMENTAL VALUES AND IMPACTS The Organization* shall* maintain, conserve and/or restore ecosystem services* and environmental values* of the Management Unit*, and shall* avoid, repair or mitigate negative environmental impacts. | D24: Y | E24: 2021.4, 2021.5 | J24: FSC PRINCIPLE #6: ENVIRONMENTAL VALUES AND IMPACTS The Organization* shall* maintain, conserve and/or restore ecosystem services* and environmental values* of the Management Unit*, and shall* avoid, repair or mitigate negative environmental impacts.
